BEGIN:VCALENDAR
VERSION:2.0
METHOD:PUBLISH
PRODID:-//hacksw/handcal//NONSGML v1.0//EN
BEGIN:VEVENT
DTSTAMP:20260423T111808Z
DTSTART:20151215T160000Z
DTEND:20151215T040000Z
UID:20151215T160000Z-20151215T040000Z-301@akronago.org
SUMMARY:Jim Storry
DESCRIPTION:Advent Adoration and Organ Recital
X-ALT-DESC;FMTTYPE=text/html:<div class=page-restrict-output><p>Advent
  Adoration and Organ Recital</p>\n</div>
URL:https://akronago.org/events/301/jim-storry/?lang=en
ATTACH:https://akronago.org/events/301/jim-storry/?lang=en
LOCATION:St Sebastian RC (Akron)\, 476 Mull Ave\, Akron
END:VEVENT
END:VCALENDAR
