BEGIN:VCALENDAR
VERSION:2.0
METHOD:PUBLISH
PRODID:-//hacksw/handcal//NONSGML v1.0//EN
BEGIN:VEVENT
DTSTAMP:20260423T112008Z
DTSTART:20151208T160000Z
DTEND:20151208T040000Z
UID:20151208T160000Z-20151208T040000Z-300@akronago.org
SUMMARY:Jeffrey Beshore
DESCRIPTION:Advent Adoration and Organ Recital
X-ALT-DESC;FMTTYPE=text/html:<div class=page-restrict-output><p>Advent
  Adoration and Organ Recital</p>\n</div>
URL:https://akronago.org/events/300/jeffrey-beshore/?lang=en
ATTACH:https://akronago.org/events/300/jeffrey-beshore/?lang=en
LOCATION:St Sebastian RC (Akron)\, 476 Mull Ave\, Akron
END:VEVENT
END:VCALENDAR
