BEGIN:VCALENDAR
VERSION:2.0
METHOD:PUBLISH
PRODID:-//hacksw/handcal//NONSGML v1.0//EN
BEGIN:VEVENT
DTSTAMP:20260423T111635Z
DTSTART:20110219T000000Z
DTEND:20110218T040000Z
UID:20110219T000000Z-20110218T040000Z-30@akronago.org
SUMMARY:Baroque Trumpets\, Organ and Timpani
DESCRIPTION:Michael Miller\, Lyle Speelman\, Jack Sutte\, trumpet\nBar
 bara MacGregor\, organist\nJosh Ryan\, Timpani
X-ALT-DESC;FMTTYPE=text/html:<div class=page-restrict-output><p>Michae
 l Miller\, Lyle Speelman\, Jack Sutte\, trumpet<br>\nBarbara MacGregor
 \, organist<br>\nJosh Ryan\, Timpani</p>\n</div>
URL:https://akronago.org/events/30/baroque-trumpets-organ-and-timpani/
 ?lang=en
ATTACH:https://akronago.org/events/30/baroque-trumpets-organ-and-timpa
 ni/?lang=en
LOCATION:Holy Trinity Lutheran (Akron)\, 50 North Prospect St\, Akron
END:VEVENT
END:VCALENDAR
