BEGIN:VCALENDAR
VERSION:2.0
METHOD:PUBLISH
PRODID:-//hacksw/handcal//NONSGML v1.0//EN
BEGIN:VEVENT
DTSTAMP:20260423T111737Z
DTSTART:20151204T160000Z
DTEND:20151204T040000Z
UID:20151204T160000Z-20151204T040000Z-298@akronago.org
SUMMARY:Barbara MacGregor: Music of Christmas
DESCRIPTION:
X-ALT-DESC;FMTTYPE=text/html:<div class=page-restrict-output></div>
URL:https://akronago.org/events/298/barbara-macgregor-music-of-christm
 as/?lang=en
ATTACH:https://akronago.org/events/298/barbara-macgregor-music-of-chri
 stmas/?lang=en
LOCATION:United Methodist (Berea)\, 170 Seminary St\, Berea
END:VEVENT
END:VCALENDAR
