BEGIN:VCALENDAR
VERSION:2.0
METHOD:PUBLISH
PRODID:-//hacksw/handcal//NONSGML v1.0//EN
BEGIN:VEVENT
DTSTAMP:20260423T111903Z
DTSTART:20151120T233000Z
DTEND:20151120T040000Z
UID:20151120T233000Z-20151120T040000Z-297@akronago.org
SUMMARY:Keys\, Pipes\, and Pistons
DESCRIPTION:Carolyn Treybig\, flute\; Gregg Bunn\, organ\; Joel Treybi
 g\, trumpet\nTrio from Belmont College\, Nashville\, Tennessee
X-ALT-DESC;FMTTYPE=text/html:<div class=page-restrict-output><p>Caroly
 n Treybig\, flute\; Gregg Bunn\, organ\; Joel Treybig\, trumpet<br>\nT
 rio from Belmont College\, Nashville\, Tennessee</p>\n</div>
URL:https://akronago.org/events/297/keys-pipes-and-pistons/?lang=en
ATTACH:https://akronago.org/events/297/keys-pipes-and-pistons/?lang=en
LOCATION:Holy Trinity Lutheran (Akron)\, 50 North Prospect St\, Akron
END:VEVENT
END:VCALENDAR
