BEGIN:VCALENDAR
VERSION:2.0
METHOD:PUBLISH
PRODID:-//hacksw/handcal//NONSGML v1.0//EN
BEGIN:VEVENT
DTSTAMP:20260423T111931Z
DTSTART:20151115T200000Z
DTEND:20151115T040000Z
UID:20151115T200000Z-20151115T040000Z-296@akronago.org
SUMMARY:Singers Companye: A Thousand Beautiful Things
DESCRIPTION:Dr. Samuel Gordon\, director
X-ALT-DESC;FMTTYPE=text/html:<div class=page-restrict-output><p>Dr. Sa
 muel Gordon\, director</p>\n</div>
URL:https://akronago.org/events/296/singers-companye-a-thousand-beauti
 ful-things/?lang=en
ATTACH:https://akronago.org/events/296/singers-companye-a-thousand-bea
 utiful-things/?lang=en
LOCATION:Fairlawn Lutheran\, 3415 W Market St\, Fairlawn\, OH
END:VEVENT
END:VCALENDAR
