BEGIN:VCALENDAR
VERSION:2.0
METHOD:PUBLISH
PRODID:-//hacksw/handcal//NONSGML v1.0//EN
BEGIN:VEVENT
DTSTAMP:20260423T111638Z
DTSTART:20151106T160000Z
DTEND:20151106T040000Z
UID:20151106T160000Z-20151106T040000Z-295@akronago.org
SUMMARY:Tutti Flutti: Erie Waters Flute Ensemble with Barbara MacGrego
 r
DESCRIPTION:
X-ALT-DESC;FMTTYPE=text/html:<div class=page-restrict-output></div>
URL:https://akronago.org/events/295/tutti-flutti-erie-waters-flute-ens
 emble-with-barbara-macgregor/?lang=en
ATTACH:https://akronago.org/events/295/tutti-flutti-erie-waters-flute-
 ensemble-with-barbara-macgregor/?lang=en
LOCATION:United Methodist (Berea)\, 170 Seminary St\, Berea
END:VEVENT
END:VCALENDAR
