BEGIN:VCALENDAR
VERSION:2.0
METHOD:PUBLISH
PRODID:-//hacksw/handcal//NONSGML v1.0//EN
BEGIN:VEVENT
DTSTAMP:20260423T111828Z
DTSTART:20151129T200000Z
DTEND:20151129T040000Z
UID:20151129T200000Z-20151129T040000Z-294@akronago.org
SUMMARY:Lessons & Carols on Advent Sunday
DESCRIPTION:Sung by the Choirs of St. Paul's
X-ALT-DESC;FMTTYPE=text/html:<div class=page-restrict-output><p>Sung b
 y the Choirs of St. Paul's</p>\n</div>
URL:https://akronago.org/events/294/lessons-carols-on-advent-sunday/?l
 ang=en
ATTACH:https://akronago.org/events/294/lessons-carols-on-advent-sunday
 /?lang=en
LOCATION:St Paul's Episcopal (Akron)\, 1361 W Market St\, Akron
END:VEVENT
END:VCALENDAR
