BEGIN:VCALENDAR
VERSION:2.0
METHOD:PUBLISH
PRODID:-//hacksw/handcal//NONSGML v1.0//EN
BEGIN:VEVENT
DTSTAMP:20260423T112006Z
DTSTART:20151115T200000Z
DTEND:20151115T040000Z
UID:20151115T200000Z-20151115T040000Z-293@akronago.org
SUMMARY:Evensong
DESCRIPTION:Evensong sung by the Men\, Boys\, and Girls of St. Paul's\
 , Akron
X-ALT-DESC;FMTTYPE=text/html:<div class=page-restrict-output><p>Evenso
 ng sung by the Men\, Boys\, and Girls of St. Paul's\, Akron</p>\n</div
 >
URL:https://akronago.org/events/293/evensong/?lang=en
ATTACH:https://akronago.org/events/293/evensong/?lang=en
LOCATION:St Andrew's Episcopal (Barberton)\, 583 W Hopocan Ave\, Barbe
 rton
END:VEVENT
END:VCALENDAR
