BEGIN:VCALENDAR
VERSION:2.0
METHOD:PUBLISH
PRODID:-//hacksw/handcal//NONSGML v1.0//EN
BEGIN:VEVENT
DTSTAMP:20260423T111826Z
DTSTART:20151101T200000Z
DTEND:20151101T040000Z
UID:20151101T200000Z-20151101T040000Z-292@akronago.org
SUMMARY:Evensong
DESCRIPTION:Evensong sung by the St. Catherine's Choir of Women
X-ALT-DESC;FMTTYPE=text/html:<div class=page-restrict-output><p>Evenso
 ng sung by the St. Catherine's Choir of Women</p>\n</div>
URL:https://akronago.org/events/292/evensong/?lang=en
ATTACH:https://akronago.org/events/292/evensong/?lang=en
LOCATION:St Paul's Episcopal (Akron)\, 1361 W Market St\, Akron
END:VEVENT
END:VCALENDAR
