BEGIN:VCALENDAR
VERSION:2.0
METHOD:PUBLISH
PRODID:-//hacksw/handcal//NONSGML v1.0//EN
BEGIN:VEVENT
DTSTAMP:20260423T112006Z
DTSTART:20151101T200000Z
DTEND:20151101T040000Z
UID:20151101T200000Z-20151101T040000Z-291@akronago.org
SUMMARY:Hector Olivera
DESCRIPTION:
X-ALT-DESC;FMTTYPE=text/html:<div class=page-restrict-output></div>
URL:https://akronago.org/events/291/hector-olivera/?lang=en
ATTACH:https://akronago.org/events/291/hector-olivera/?lang=en
LOCATION:Faith Lutheran (Akron)\, 2726 W Market St\, Akron
END:VEVENT
END:VCALENDAR
