BEGIN:VCALENDAR
VERSION:2.0
METHOD:PUBLISH
PRODID:-//hacksw/handcal//NONSGML v1.0//EN
BEGIN:VEVENT
DTSTAMP:20260423T111635Z
DTSTART:20101203T233000Z
DTEND:20101203T040000Z
UID:20101203T233000Z-20101203T040000Z-29@akronago.org
SUMMARY:Lessons & Carols
DESCRIPTION:Trinity Choir\, Trinity Bells\, Paragon Brass Quintet\, an
 d Barbara MacGregor\, organist
X-ALT-DESC;FMTTYPE=text/html:<div class=page-restrict-output><p>Trinit
 y Choir\, Trinity Bells\, Paragon Brass Quintet\, and Barbara MacGrego
 r\, organist</p>\n</div>
URL:https://akronago.org/events/29/lessons-carols/?lang=en
ATTACH:https://akronago.org/events/29/lessons-carols/?lang=en
LOCATION:Holy Trinity Lutheran (Akron)\, 50 North Prospect St\, Akron
END:VEVENT
END:VCALENDAR
