BEGIN:VCALENDAR
VERSION:2.0
METHOD:PUBLISH
PRODID:-//hacksw/handcal//NONSGML v1.0//EN
BEGIN:VEVENT
DTSTAMP:20260423T111933Z
DTSTART:20151023T233000Z
DTEND:20151023T040000Z
UID:20151023T233000Z-20151023T040000Z-289@akronago.org
SUMMARY:Dorothy Papadakos (silent film)
DESCRIPTION:Dorothy Papadakos will accompany the silent film\, Nosfera
 tu
X-ALT-DESC;FMTTYPE=text/html:<div class=page-restrict-output><p>Doroth
 y Papadakos will accompany the silent film\, Nosferatu</p>\n</div>
URL:https://akronago.org/events/289/dorothy-papadakos/?lang=en
ATTACH:https://akronago.org/events/289/dorothy-papadakos/?lang=en
LOCATION:Holy Trinity Lutheran (Akron)\, 50 North Prospect St\, Akron
END:VEVENT
END:VCALENDAR
