BEGIN:VCALENDAR
VERSION:2.0
METHOD:PUBLISH
PRODID:-//hacksw/handcal//NONSGML v1.0//EN
BEGIN:VEVENT
DTSTAMP:20260423T112007Z
DTSTART:20151018T200000Z
DTEND:20151018T040000Z
UID:20151018T200000Z-20151018T040000Z-288@akronago.org
SUMMARY:Concordia University Choir (Ann-Arbor)
DESCRIPTION:Directed by Brian Altevogt
X-ALT-DESC;FMTTYPE=text/html:<div class=page-restrict-output><p>Direct
 ed by Brian Altevogt</p>\n</div>
URL:https://akronago.org/events/288/concordia-university-choir-ann-arb
 or/?lang=en
ATTACH:https://akronago.org/events/288/concordia-university-choir-ann-
 arbor/?lang=en
LOCATION:Fairlawn Lutheran\, 3415 W Market St\, Fairlawn\, OH
END:VEVENT
END:VCALENDAR
