BEGIN:VCALENDAR
VERSION:2.0
METHOD:PUBLISH
PRODID:-//hacksw/handcal//NONSGML v1.0//EN
BEGIN:VEVENT
DTSTAMP:20260423T111727Z
DTSTART:20151110T210000Z
DTEND:20151110T040000Z
UID:20151110T210000Z-20151110T040000Z-287@akronago.org
SUMMARY:Organ Crawl at Stan Hywet Hall
DESCRIPTION:Valerie Thorson\, presenter\nCost per member is: $5.00 (Pa
 y Lynn Frey-Steward at the door)\n\nDinner at Vasili's Greek Cuisine f
 ollowing event\n1702 Merriman Road\, Akron - 330-864-0722\nRSVP for Di
 nner no later than Tuesday\, November 3 to Lynn Steward - freyl@stseba
 stian.org
X-ALT-DESC;FMTTYPE=text/html:<div class=page-restrict-output><p>Valeri
 e Thorson\, presenter<br>\nCost per member is: $5.00 (Pay Lynn Frey-St
 eward at the door)</p>\n<p>Dinner at Vasili's Greek Cuisine following 
 event<br>\n1702 Merriman Road\, Akron - 330-864-0722<br>\nRSVP for Din
 ner no later than Tuesday\, November 3 to Lynn Steward - frey&#108\;&#
 64\;&#115\;&#116\;&#115\;&#x65\;&#x62\;&#x61\;&#x73\;&#x74\;&#x69\;&#x
 61\;n&#46\;or&#103\;</p>\n</div>
URL:https://akronago.org/events/287/organ-crawl-at-stan-hywet-hall/?la
 ng=en
ATTACH:https://akronago.org/events/287/organ-crawl-at-stan-hywet-hall/
 ?lang=en
LOCATION:Stan Hywet Hall (Akron)\, 714 Portage Path\, Akron
END:VEVENT
END:VCALENDAR
