BEGIN:VCALENDAR
VERSION:2.0
METHOD:PUBLISH
PRODID:-//hacksw/handcal//NONSGML v1.0//EN
BEGIN:VEVENT
DTSTAMP:20260423T111655Z
DTSTART:20160313T210000Z
DTEND:20160313T040000Z
UID:20160313T210000Z-20160313T040000Z-285@akronago.org
SUMMARY:University of Akron Steel Drum Band
DESCRIPTION:
X-ALT-DESC;FMTTYPE=text/html:<div class=page-restrict-output></div>
URL:https://akronago.org/events/285/university-of-akron-steel-drum-ban
 d/?lang=en
ATTACH:https://akronago.org/events/285/university-of-akron-steel-drum-
 band/?lang=en
LOCATION:Westminster Presbyterian (Akron)\, 1250 W Exchange St\, Akron
END:VEVENT
END:VCALENDAR
