BEGIN:VCALENDAR
VERSION:2.0
METHOD:PUBLISH
PRODID:-//hacksw/handcal//NONSGML v1.0//EN
BEGIN:VEVENT
DTSTAMP:20260423T111914Z
DTSTART:20160207T210000Z
DTEND:20160207T040000Z
UID:20160207T210000Z-20160207T040000Z-284@akronago.org
SUMMARY:Baldwin-Wallace University Motet Choir
DESCRIPTION:
X-ALT-DESC;FMTTYPE=text/html:<div class=page-restrict-output></div>
URL:https://akronago.org/events/284/baldwin-wallace-university-motet-c
 hoir/?lang=en
ATTACH:https://akronago.org/events/284/baldwin-wallace-university-mote
 t-choir/?lang=en
LOCATION:Westminster Presbyterian (Akron)\, 1250 W Exchange St\, Akron
END:VEVENT
END:VCALENDAR
