BEGIN:VCALENDAR
VERSION:2.0
METHOD:PUBLISH
PRODID:-//hacksw/handcal//NONSGML v1.0//EN
BEGIN:VEVENT
DTSTAMP:20260423T112009Z
DTSTART:20151016T230000Z
DTEND:20151016T040000Z
UID:20151016T230000Z-20151016T040000Z-282@akronago.org
SUMMARY:Robert Mollard in Concert
DESCRIPTION:Concert is free and open to the public.\n\nMusic:\nFantasi
 e and Fugue in G minor — J. S. Bach\nSchmucke dich\, O leibe Seele — J
 . S. Bach\nThree Chorale Preludes — P.D.Q. Bach\nSimple Gifts — Joseph
  Brackett\, Jr.\nVariations on Veni Creator\, Op. 4 — Duruflé\nPièce H
 éroïque — Franck\nLamentation\, Op. 45\, No. 1 — Guilmant\nMaple Leaf 
 Rag — Scott Joplin\nToccata (from Symphony No. 5) — Widor\n\nLink to t
 he 2015–16 John Knox Performance Series brochure
X-ALT-DESC;FMTTYPE=text/html:<div class=page-restrict-output><p>Concer
 t is free and open to the public.</p>\n<p>Music:<br>\nFantasie and Fug
 ue in G minor — J. S. Bach<br>\nSchmucke dich\, O leibe Seele — J. S. 
 Bach<br>\nThree Chorale Preludes — P.D.Q. Bach<br>\nSimple Gifts — Jos
 eph Brackett\, Jr.<br>\nVariations on Veni Creator\, Op. 4 — Duruflé<b
 r>\nPièce Héroïque — Franck<br>\nLamentation\, Op. 45\, No. 1 — Guilma
 nt<br>\nMaple Leaf Rag — Scott Joplin<br>\nToccata (from Symphony No. 
 5) — Widor</p>\n<p><a href=http://www.johnknoxpc.org/images/Worship_an
 d_Music/JKCConcertSeries2015.pdf>Link to the 2015–16 John Knox Perform
 ance Series brochure</a></p>\n</div>
URL:https://akronago.org/events/282/robert-mollard-in-concert/?lang=en
ATTACH:https://akronago.org/events/282/robert-mollard-in-concert/?lang
 =en
LOCATION:John Knox Presbyterian (North Olmsted)\, 25200 Lorain Rd\, No
 rth Olmsted
END:VEVENT
END:VCALENDAR
