BEGIN:VCALENDAR
VERSION:2.0
METHOD:PUBLISH
PRODID:-//hacksw/handcal//NONSGML v1.0//EN
BEGIN:VEVENT
DTSTAMP:20260423T111729Z
DTSTART:20150927T000000Z
DTEND:20150927T010000Z
UID:20150927T000000Z-20150927T010000Z-281@akronago.org
SUMMARY:Craig Cramer
DESCRIPTION:Craig Cramer is Professor of Organ and Artist in Residence
  at the University of Notre Dame in Indiana. He also serves as organis
 t at St. David of Wales Episcopal Church in Elkhart\, Indiana. He hold
 s degrees from Westminster Choir College and the Eastman School of Mus
 ic where he earned the Doctor of Musical Arts degree in Organ Performa
 nce. The Eastman School also awarded him the prestigious Performer's C
 ertificate in Organ. He has studied with Russell Saunders\, William Ha
 ys\, James Drake\, David Boe\, and André Marchal (Paris). Cramer has b
 een named the winner of several important competitions.\n\nDr. Cramer 
 will play a recital of music by J.S. Bach and Buxtehude. He is an inte
 rnational expert on the music of Buxtehude\, having presented his comp
 lete organ works (nine concerts' worth) in honor of the 300th annivers
 ary of his death in 2007. Cramer was featured last year at the America
 n Guild of Organists (AGO) National Convention in Boston and currently
  has 15 compact disc recordings.\n\nAdmission is FREE. FCC is located 
 in beautiful downtown Hudson at 47 Aurora St. This concert is part of 
 the church’s 150th anniversary of the building of their Sanctuary. For
  more information\, please contact Thomas M. Scott\, Ph.D. at tscott@h
 udsonucc.org or call 330-650-4048.
X-ALT-DESC;FMTTYPE=text/html:<div class=page-restrict-output><p>Craig 
 Cramer is Professor of Organ and Artist in Residence at the University
  of Notre Dame in Indiana. He also serves as organist at St. David of 
 Wales Episcopal Church in Elkhart\, Indiana. He holds degrees from Wes
 tminster Choir College and the Eastman School of Music where he earned
  the Doctor of Musical Arts degree in Organ Performance. The Eastman S
 chool also awarded him the prestigious Performer's Certificate in Orga
 n. He has studied with Russell Saunders\, William Hays\, James Drake\,
  David Boe\, and André Marchal (Paris). Cramer has been named the winn
 er of several important competitions.</p>\n<p>Dr. Cramer will play a r
 ecital of music by J.S. Bach and Buxtehude. He is an international exp
 ert on the music of Buxtehude\, having presented his complete organ wo
 rks (nine concerts' worth) in honor of the 300th anniversary of his de
 ath in 2007. Cramer was featured last year at the American Guild of Or
 ganists (AGO) National Convention in Boston and currently has 15 compa
 ct disc recordings.</p>\n<p>Admission is FREE. FCC is located in beaut
 iful downtown Hudson at 47 Aurora St. This concert is part of the chur
 ch’s 150th anniversary of the building of their Sanctuary. For more in
 formation\, please contact Thomas M. Scott\, Ph.D. at tscott&#64\;huds
 onucc&#46\;org or call 330-650-4048.</p>\n</div>
URL:https://akronago.org/events/281/craig-cramer/?lang=en
ATTACH:https://akronago.org/events/281/craig-cramer/?lang=en
LOCATION:First Congregational (Hudson)\, 47 Aurora St\, Hudson\, OH
END:VEVENT
END:VCALENDAR
