BEGIN:VCALENDAR
VERSION:2.0
METHOD:PUBLISH
PRODID:-//hacksw/handcal//NONSGML v1.0//EN
BEGIN:VEVENT
DTSTAMP:20260423T111728Z
DTSTART:20151025T200000Z
DTEND:20151025T040000Z
UID:20151025T200000Z-20151025T040000Z-280@akronago.org
SUMMARY:With Cheerful Voice: A Festival of Hymns (John Walker\, organi
 st)
DESCRIPTION:Sponsored by Billow Funeral Homes and the Akron Chapter of
  the American Guild of Organists
X-ALT-DESC;FMTTYPE=text/html:<div class=page-restrict-output><p><em>Sp
 onsored by Billow Funeral Homes and the Akron Chapter of the American 
 Guild of Organists</em></p>\n</div>
URL:https://akronago.org/events/280/with-cheerful-voice-a-festival-of-
 hymns-john-walker-organist/?lang=en
ATTACH:https://akronago.org/events/280/with-cheerful-voice-a-festival-
 of-hymns-john-walker-organist/?lang=en
LOCATION:St Paul's Episcopal (Akron)\, 1361 W Market St\, Akron
END:VEVENT
END:VCALENDAR
