BEGIN:VCALENDAR
VERSION:2.0
METHOD:PUBLISH
PRODID:-//hacksw/handcal//NONSGML v1.0//EN
BEGIN:VEVENT
DTSTAMP:20260423T111654Z
DTSTART:20101210T223000Z
DTEND:20101210T040000Z
UID:20101210T223000Z-20101210T040000Z-28@akronago.org
SUMMARY:Madrigal Dinners
DESCRIPTION:Friday\, Dec 10 at 6:30 p.m.\nSaturday\, Dec 11 at 6:30 p.
 m.\nSunday\, Dec 12 at 4:30 p.m.\n\nOur Madrigal Dinners are known in 
 northeast Ohio for the authentic food\, period costumes\, and the outs
 tanding music provided by the choristers. Proceeds from the sale of Ma
 drigal tickets benefit the St. Paul’s Choir Travel Fund. $40/ticket. F
 or reservations\, call 330-836-9327.
X-ALT-DESC;FMTTYPE=text/html:<div class=page-restrict-output><p>Friday
 \, Dec 10 at 6:30 p.m.<br>\nSaturday\, Dec 11 at 6:30 p.m.<br>\nSunday
 \, Dec 12 at 4:30 p.m.</p>\n<p>Our Madrigal Dinners are known in north
 east Ohio for the authentic food\, period costumes\, and the outstandi
 ng music provided by the choristers. Proceeds from the sale of Madriga
 l tickets benefit the St. Paul’s Choir Travel Fund. $40/ticket. For re
 servations\, call 330-836-9327.</p>\n</div>
URL:https://akronago.org/events/28/madrigal-dinners/?lang=en
ATTACH:https://akronago.org/events/28/madrigal-dinners/?lang=en
LOCATION:St Paul's Episcopal (Akron)\, 1361 W Market St\, Akron
END:VEVENT
END:VCALENDAR
