BEGIN:VCALENDAR
VERSION:2.0
METHOD:PUBLISH
PRODID:-//hacksw/handcal//NONSGML v1.0//EN
BEGIN:VEVENT
DTSTAMP:20260423T112009Z
DTSTART:20150913T190000Z
DTEND:20150913T040000Z
UID:20150913T190000Z-20150913T040000Z-279@akronago.org
SUMMARY:Demonstration on the new Schantz/Rodgers organ
DESCRIPTION:Bob Mollard\, presenter\nDinner following at The Rail (326
 5 W Market St\, Summit Mall). RSVP to Lynn (330-244-8808) no later tha
 n Wednesday\, Sept. 9 at 5 pm.
X-ALT-DESC;FMTTYPE=text/html:<div class=page-restrict-output><p>Bob Mo
 llard\, presenter<br>\nDinner following at The Rail (3265 W Market St\
 , Summit Mall). RSVP to Lynn (330-244-8808) no later than Wednesday\, 
 Sept. 9 at 5 pm.</p>\n</div>
URL:https://akronago.org/events/279/demonstration-on-the-new-schantzro
 dgers-organ/?lang=en
ATTACH:https://akronago.org/events/279/demonstration-on-the-new-schant
 zrodgers-organ/?lang=en
LOCATION:Faith Lutheran (Akron)\, 2726 W Market St\, Akron
END:VEVENT
END:VCALENDAR
