BEGIN:VCALENDAR
VERSION:2.0
METHOD:PUBLISH
PRODID:-//hacksw/handcal//NONSGML v1.0//EN
BEGIN:VEVENT
DTSTAMP:20260423T111912Z
DTSTART:20150607T200000Z
DTEND:20150607T040000Z
UID:20150607T200000Z-20150607T040000Z-278@akronago.org
SUMMARY:Annual Chapter Picnic
DESCRIPTION:Bring a lawn chair and a side dish to share. (No RSVP nece
 ssary.)
X-ALT-DESC;FMTTYPE=text/html:<div class=page-restrict-output><p>Bring 
 a lawn chair and a side dish to share. (No RSVP necessary.)</p>\n</div
 >
URL:https://akronago.org/events/278/annual-chapter-picnic/?lang=en
ATTACH:https://akronago.org/events/278/annual-chapter-picnic/?lang=en
LOCATION:Home of Kathy & Conn Drugan (Ravenna)\, 3138 Robin St\, Raven
 na
END:VEVENT
END:VCALENDAR
