BEGIN:VCALENDAR
VERSION:2.0
METHOD:PUBLISH
PRODID:-//hacksw/handcal//NONSGML v1.0//EN
BEGIN:VEVENT
DTSTAMP:20260423T111809Z
DTSTART:20150426T200000Z
DTEND:20150426T040000Z
UID:20150426T200000Z-20150426T040000Z-277@akronago.org
SUMMARY:Marilyn Keiser
DESCRIPTION:Music of William Henry Harris\, J.S. Bach\, Dan Locklair\,
  Louis Vierne\, Maurice Duruflé\, Gabriel Pierne\, and Henri Mulet\n\n
 Free will offering\nSponsored by Billow Funeral Homes
X-ALT-DESC;FMTTYPE=text/html:<div class=page-restrict-output><p>Music 
 of William Henry Harris\, J.S. Bach\, Dan Locklair\, Louis Vierne\, Ma
 urice Duruflé\, Gabriel Pierne\, and Henri Mulet</p>\n<p>Free will off
 ering<br>\n<em>Sponsored by Billow Funeral Homes</em></p>\n</div>
URL:https://akronago.org/events/277/marilyn-keiser/?lang=en
ATTACH:https://akronago.org/events/277/marilyn-keiser/?lang=en
LOCATION:St Paul's Episcopal (Akron)\, 1361 W Market St\, Akron
END:VEVENT
END:VCALENDAR
