BEGIN:VCALENDAR
VERSION:2.0
METHOD:PUBLISH
PRODID:-//hacksw/handcal//NONSGML v1.0//EN
BEGIN:VEVENT
DTSTAMP:20260423T111904Z
DTSTART:20150215T200000Z
DTEND:20150215T040000Z
UID:20150215T200000Z-20150215T040000Z-276@akronago.org
SUMMARY:Evensong
DESCRIPTION:Music of Herbert Sumsion\, Basil Harwood\, and Larry King.
 \nSung by the Choir of Men & Boys\, and the St. Cecilia Choir of Girls
 .
X-ALT-DESC;FMTTYPE=text/html:<div class=page-restrict-output><p>Music 
 of Herbert Sumsion\, Basil Harwood\, and Larry King.<br>\nSung by the 
 Choir of Men & Boys\, and the St. Cecilia Choir of Girls.</p>\n</div>
URL:https://akronago.org/events/276/evensong/?lang=en
ATTACH:https://akronago.org/events/276/evensong/?lang=en
LOCATION:St Paul's Episcopal (Akron)\, 1361 W Market St\, Akron
END:VEVENT
END:VCALENDAR
