BEGIN:VCALENDAR
VERSION:2.0
METHOD:PUBLISH
PRODID:-//hacksw/handcal//NONSGML v1.0//EN
BEGIN:VEVENT
DTSTAMP:20260423T111913Z
DTSTART:20150412T210000Z
DTEND:20150412T040000Z
UID:20150412T210000Z-20150412T040000Z-275@akronago.org
SUMMARY:Garrett Law
DESCRIPTION:Music of Bach\, Alain\, Wadsworth\, and Franck.\n\nFree ad
 mission.
X-ALT-DESC;FMTTYPE=text/html:<div class=page-restrict-output><p>Music 
 of Bach\, Alain\, Wadsworth\, and Franck.</p>\n<p>Free admission.</p>\
 n</div>
URL:https://akronago.org/events/275/garrett-law/?lang=en
ATTACH:https://akronago.org/events/275/garrett-law/?lang=en
LOCATION:St Paul's Episcopal (Akron)\, 1361 W Market St\, Akron
END:VEVENT
END:VCALENDAR
