BEGIN:VCALENDAR
VERSION:2.0
METHOD:PUBLISH
PRODID:-//hacksw/handcal//NONSGML v1.0//EN
BEGIN:VEVENT
DTSTAMP:20260423T111913Z
DTSTART:20150418T120000Z
DTEND:20150418T040000Z
UID:20150418T120000Z-20150418T040000Z-274@akronago.org
SUMMARY:Breakfast with organist Tom Trenney
DESCRIPTION:
X-ALT-DESC;FMTTYPE=text/html:<div class=page-restrict-output></div>
URL:https://akronago.org/events/274/breakfast-with-organist-tom-trenne
 y/?lang=en
ATTACH:https://akronago.org/events/274/breakfast-with-organist-tom-tre
 nney/?lang=en
LOCATION:Bob Evan's Restaurant (Montrose)\, 4076 Medina Rd\, Akron
END:VEVENT
END:VCALENDAR
