BEGIN:VCALENDAR
VERSION:2.0
METHOD:PUBLISH
PRODID:-//hacksw/handcal//NONSGML v1.0//EN
BEGIN:VEVENT
DTSTAMP:20260423T111914Z
DTSTART:20150308T190000Z
DTEND:20150308T040000Z
UID:20150308T190000Z-20150308T040000Z-273@akronago.org
SUMMARY:Outrageous Offertories (Members' Recital)
DESCRIPTION:
X-ALT-DESC;FMTTYPE=text/html:<div class=page-restrict-output></div>
URL:https://akronago.org/events/273/outrageous-offertories-members-rec
 ital/?lang=en
ATTACH:https://akronago.org/events/273/outrageous-offertories-members-
 recital/?lang=en
LOCATION:Bath Church UCC (Akron)\, 3980 West Bath Rd\, Akron
END:VEVENT
END:VCALENDAR
