BEGIN:VCALENDAR
VERSION:2.0
METHOD:PUBLISH
PRODID:-//hacksw/handcal//NONSGML v1.0//EN
BEGIN:VEVENT
DTSTAMP:20260423T111725Z
DTSTART:20150214T143000Z
DTEND:20150214T160000Z
UID:20150214T143000Z-20150214T160000Z-272@akronago.org
SUMMARY:Wedding Music—Finding New Love
DESCRIPTION:A workshop on new ideas for wedding music (presented by Da
 niel Fortune).\n\nFree Lunch provided for Akron Chapter members who RS
 VP by February 9th at 5 p.m.\n\n(No extra lunches will be available fo
 r those who do not RSVP by deadline.)\n\nClick here to RSVP for lunch.
X-ALT-DESC;FMTTYPE=text/html:<div class=page-restrict-output><p>A work
 shop on new ideas for wedding music (presented by Daniel Fortune).</p>
 \n<p>Free Lunch provided for Akron Chapter members who RSVP by Februar
 y 9th at 5 p.m.</p>\n<p><em>(No extra lunches will be available for th
 ose who do not RSVP by deadline.)</em></p>\n<p><a href=http://akronago
 .org/lunch-rsvp-for-february-14-2015/ title=Lunch RSVP for February 14
 \, 2015>Click here to RSVP for lunch.</a></p>\n</div>
URL:https://akronago.org/events/272/wedding-music-e2-80-94finding-new-
 love/?lang=en
ATTACH:https://akronago.org/events/272/wedding-music-e2-80-94finding-n
 ew-love/?lang=en
LOCATION:St Paul's Episcopal (Akron)\, 1361 W Market St\, Akron
END:VEVENT
END:VCALENDAR
