BEGIN:VCALENDAR
VERSION:2.0
METHOD:PUBLISH
PRODID:-//hacksw/handcal//NONSGML v1.0//EN
BEGIN:VEVENT
DTSTAMP:20260423T111826Z
DTSTART:20150110T143000Z
DTEND:20150110T160000Z
UID:20150110T143000Z-20150110T160000Z-271@akronago.org
SUMMARY:Handbells\, Voices & Instruments
DESCRIPTION:Chuck Kobb\, presenter\n\nRequesting Volunteers to ring be
 lls\, sing\, and play instruments\n\nLunch at Noon at Applebee's (3938
  Medina Rd in Montrose). RSVP to Lynn-Frey Steward (330-244-8808 or fr
 eyl@stsebastian.org).
X-ALT-DESC;FMTTYPE=text/html:<div class=page-restrict-output><p>Chuck 
 Kobb\, presenter</p>\n<p>Requesting Volunteers to ring bells\, sing\, 
 and play instruments</p>\n<p>Lunch at Noon at Applebee's (3938 Medina 
 Rd in Montrose). RSVP to Lynn-Frey Steward (330-244-8808 or fre&#121\;
 &#108\;&#64\;&#115\;&#x74\;&#x73\;&#x65\;&#x62\;&#x61\;&#x73\;&#x74\;i
 an&#46\;&#111\;&#114\;&#103\;).</p>\n</div>
URL:https://akronago.org/events/271/handbells-voices-instruments/?lang
 =en
ATTACH:https://akronago.org/events/271/handbells-voices-instruments/?l
 ang=en
LOCATION:Fairlawn Lutheran\, 3415 W Market St\, Fairlawn\, OH
END:VEVENT
END:VCALENDAR
