BEGIN:VCALENDAR
VERSION:2.0
METHOD:PUBLISH
PRODID:-//hacksw/handcal//NONSGML v1.0//EN
BEGIN:VEVENT
DTSTAMP:20260423T111907Z
DTSTART:20141210T230000Z
DTEND:20141210T040000Z
UID:20141210T230000Z-20141210T040000Z-270@akronago.org
SUMMARY:Community Festival of Carols
DESCRIPTION:Christmas Carols led by the choir and organ combined with 
 readings of the Christmas story.\n\nIf you love to sing carols\, come 
 and join us for this festive evening of song!\n\nRefreshments will be 
 served following the carol fest.\n\nA free will door offering will be 
 taken to benefit Akron Pregnancy Services.
X-ALT-DESC;FMTTYPE=text/html:<div class=page-restrict-output><p>Christ
 mas Carols led by the choir and organ combined with readings of the Ch
 ristmas story.</p>\n<p>If you love to sing carols\, come and join us f
 or this festive evening of song!</p>\n<p>Refreshments will be served f
 ollowing the carol fest.</p>\n<p>A free will door offering will be tak
 en to benefit Akron Pregnancy Services.</p>\n</div>
URL:https://akronago.org/events/270/community-festival-of-carols/?lang
 =en
ATTACH:https://akronago.org/events/270/community-festival-of-carols/?l
 ang=en
LOCATION:Gloria Dei Lutheran (Hudson)\, 2113 Ravenna St\, Hudson OH
END:VEVENT
END:VCALENDAR
