BEGIN:VCALENDAR
VERSION:2.0
METHOD:PUBLISH
PRODID:-//hacksw/handcal//NONSGML v1.0//EN
BEGIN:VEVENT
DTSTAMP:20260423T111738Z
DTSTART:20101121T200000Z
DTEND:20101121T040000Z
UID:20101121T200000Z-20101121T040000Z-27@akronago.org
SUMMARY:A Celebration of Bells
DESCRIPTION:The Handbell Choirs of St. Sebastian and St. Joseph come t
 ogether to invite all to experience the magic of handbells\, from Chri
 stmas music to just plain fun. Join us on a journey of music sure to k
 eep you humming! The Handbell Choirs will also be joined by percussion
  and woodwind instruments.
X-ALT-DESC;FMTTYPE=text/html:<div class=page-restrict-output><p>The Ha
 ndbell Choirs of St. Sebastian and St. Joseph come together to invite 
 all to experience the magic of handbells\, from Christmas music to jus
 t plain fun. Join us on a journey of music sure to keep you humming! T
 he Handbell Choirs will also be joined by percussion and woodwind inst
 ruments.</p>\n</div>
URL:https://akronago.org/events/27/a-celebration-of-bells/?lang=en
ATTACH:https://akronago.org/events/27/a-celebration-of-bells/?lang=en
LOCATION:St Sebastian RC (Akron)\, 476 Mull Ave\, Akron
END:VEVENT
END:VCALENDAR
