BEGIN:VCALENDAR
VERSION:2.0
METHOD:PUBLISH
PRODID:-//hacksw/handcal//NONSGML v1.0//EN
BEGIN:VEVENT
DTSTAMP:20260423T111912Z
DTSTART:20141123T173000Z
DTEND:20141123T040000Z
UID:20141123T173000Z-20141123T040000Z-269@akronago.org
SUMMARY:Home for Thanksgiving Concert
DESCRIPTION:Thanksgiving hymns with fanfares and music of Bach\, Campr
 a\, Charpentier\, Karg-Elert\, Praetorius\, and more.\n\nFree-will off
 ering benefits the First Church Food Cupboard program.
X-ALT-DESC;FMTTYPE=text/html:<div class=page-restrict-output><p>Thanks
 giving hymns with fanfares and music of Bach\, Campra\, Charpentier\, 
 Karg-Elert\, Praetorius\, and more.</p>\n<p>Free-will offering benefit
 s the First Church Food Cupboard program.</p>\n</div>
URL:https://akronago.org/events/269/home-for-thanksgiving-concert/?lan
 g=en
ATTACH:https://akronago.org/events/269/home-for-thanksgiving-concert/?
 lang=en
LOCATION:First Congregational (Akron)\, 292 E Market St\, Akron
END:VEVENT
END:VCALENDAR
