BEGIN:VCALENDAR
VERSION:2.0
METHOD:PUBLISH
PRODID:-//hacksw/handcal//NONSGML v1.0//EN
BEGIN:VEVENT
DTSTAMP:20260423T111656Z
DTSTART:20141130T200000Z
DTEND:20141130T040000Z
UID:20141130T200000Z-20141130T040000Z-268@akronago.org
SUMMARY:Lessons & Carols on Advent Sunday
DESCRIPTION:
X-ALT-DESC;FMTTYPE=text/html:<div class=page-restrict-output></div>
URL:https://akronago.org/events/268/lessons-carols-on-advent-sunday/?l
 ang=en
ATTACH:https://akronago.org/events/268/lessons-carols-on-advent-sunday
 /?lang=en
LOCATION:St Paul's Episcopal (Akron)\, 1361 W Market St\, Akron
END:VEVENT
END:VCALENDAR
