BEGIN:VCALENDAR
VERSION:2.0
METHOD:PUBLISH
PRODID:-//hacksw/handcal//NONSGML v1.0//EN
BEGIN:VEVENT
DTSTAMP:20260423T111807Z
DTSTART:20141116T200000Z
DTEND:20141116T040000Z
UID:20141116T200000Z-20141116T040000Z-267@akronago.org
SUMMARY:Jay Yau
DESCRIPTION:Jay Yau studies at Oberlin Conservatory. He has performed 
 in the Spoleto Festival and recently around France.\n\nFreewill offeri
 ng
X-ALT-DESC;FMTTYPE=text/html:<div class=page-restrict-output><p>Jay Ya
 u studies at Oberlin Conservatory. He has performed in the Spoleto Fes
 tival and recently around France.</p>\n<p>Freewill offering</p>\n</div
 >
URL:https://akronago.org/events/267/jay-yau/?lang=en
ATTACH:https://akronago.org/events/267/jay-yau/?lang=en
LOCATION:Grace Lutheran Church (Wadsworth)\, 146 High St\, Wadsworth O
 H
END:VEVENT
END:VCALENDAR
