BEGIN:VCALENDAR
VERSION:2.0
METHOD:PUBLISH
PRODID:-//hacksw/handcal//NONSGML v1.0//EN
BEGIN:VEVENT
DTSTAMP:20260423T111905Z
DTSTART:20141123T230000Z
DTEND:20141123T040000Z
UID:20141123T230000Z-20141123T040000Z-266@akronago.org
SUMMARY:Hannah Koby (Akron AGO Scholarship Winner)
DESCRIPTION:Music of Mendelssohn\, Bach\, and Dupré
X-ALT-DESC;FMTTYPE=text/html:<div class=page-restrict-output><p>Music 
 of Mendelssohn\, Bach\, and Dupré</p>\n</div>
URL:https://akronago.org/events/266/hannah-koby-akron-ago-scholarship-
 winner/?lang=en
ATTACH:https://akronago.org/events/266/hannah-koby-akron-ago-scholarsh
 ip-winner/?lang=en
LOCATION:First U Methodist (Cuyahoga Falls)\, 245 Portage Trail\, Cuya
 hoga Falls
END:VEVENT
END:VCALENDAR
