BEGIN:VCALENDAR
VERSION:2.0
METHOD:PUBLISH
PRODID:-//hacksw/handcal//NONSGML v1.0//EN
BEGIN:VEVENT
DTSTAMP:20260423T111808Z
DTSTART:20150614T200000Z
DTEND:20150614T040000Z
UID:20150614T200000Z-20150614T040000Z-265@akronago.org
SUMMARY:Ireland Concert Tour (St. Sebastian Choir)
DESCRIPTION:
X-ALT-DESC;FMTTYPE=text/html:<div class=page-restrict-output></div>
URL:https://akronago.org/events/265/ireland-concert-tour-st-sebastian-
 choir/?lang=en
ATTACH:https://akronago.org/events/265/ireland-concert-tour-st-sebasti
 an-choir/?lang=en
LOCATION:St Sebastian RC (Akron)\, 476 Mull Ave\, Akron
END:VEVENT
END:VCALENDAR
