BEGIN:VCALENDAR
VERSION:2.0
METHOD:PUBLISH
PRODID:-//hacksw/handcal//NONSGML v1.0//EN
BEGIN:VEVENT
DTSTAMP:20260423T111737Z
DTSTART:20150503T200000Z
DTEND:20150503T040000Z
UID:20150503T200000Z-20150503T040000Z-264@akronago.org
SUMMARY:9th Annual High School Music Festival
DESCRIPTION:Revere\, Copley-Fairlawn\, and Medina High Schools join fo
 rces in this annual festival of choral music.
X-ALT-DESC;FMTTYPE=text/html:<div class=page-restrict-output><p>Revere
 \, Copley-Fairlawn\, and Medina High Schools join forces in this annua
 l festival of choral music.</p>\n</div>
URL:https://akronago.org/events/264/9th-annual-high-school-music-festi
 val/?lang=en
ATTACH:https://akronago.org/events/264/9th-annual-high-school-music-fe
 stival/?lang=en
LOCATION:Fairlawn Lutheran\, 3415 W Market St\, Fairlawn\, OH
END:VEVENT
END:VCALENDAR
