BEGIN:VCALENDAR
VERSION:2.0
METHOD:PUBLISH
PRODID:-//hacksw/handcal//NONSGML v1.0//EN
BEGIN:VEVENT
DTSTAMP:20260423T111657Z
DTSTART:20150419T200000Z
DTEND:20150419T040000Z
UID:20150419T200000Z-20150419T040000Z-263@akronago.org
SUMMARY:Robert Moncrief
DESCRIPTION:
X-ALT-DESC;FMTTYPE=text/html:<div class=page-restrict-output></div>
URL:https://akronago.org/events/263/robert-moncrief/?lang=en
ATTACH:https://akronago.org/events/263/robert-moncrief/?lang=en
LOCATION:Fairlawn Lutheran\, 3415 W Market St\, Fairlawn\, OH
END:VEVENT
END:VCALENDAR
