BEGIN:VCALENDAR
VERSION:2.0
METHOD:PUBLISH
PRODID:-//hacksw/handcal//NONSGML v1.0//EN
BEGIN:VEVENT
DTSTAMP:20260423T111740Z
DTSTART:20141214T200000Z
DTEND:20141214T040000Z
UID:20141214T200000Z-20141214T040000Z-261@akronago.org
SUMMARY:Master Singers\, Inc. Christmas Concert
DESCRIPTION:
X-ALT-DESC;FMTTYPE=text/html:<div class=page-restrict-output></div>
URL:https://akronago.org/events/261/master-singers-inc-christmas-conce
 rt/?lang=en
ATTACH:https://akronago.org/events/261/master-singers-inc-christmas-co
 ncert/?lang=en
LOCATION:Fairlawn Lutheran\, 3415 W Market St\, Fairlawn\, OH
END:VEVENT
END:VCALENDAR
