BEGIN:VCALENDAR
VERSION:2.0
METHOD:PUBLISH
PRODID:-//hacksw/handcal//NONSGML v1.0//EN
BEGIN:VEVENT
DTSTAMP:20260423T111654Z
DTSTART:20101212T190000Z
DTEND:20101212T040000Z
UID:20101212T190000Z-20101212T040000Z-26@akronago.org
SUMMARY:Ceremony of Lessons & Carols
DESCRIPTION:Music of Advent/Christmas\nwith the Cherub\, Seraphim and 
 Parish choir\, Youth and Handbell choir\, Praise and Worship Ensemble\
 , and various instruments\n\nIncluding music of Ord (Adam lay ybounden
 )\, Gauntlett (Once in royal David's city)\, Biebl (Ave Maria)\, Hande
 l (And the glory of the Lord)\, Thomas (Keep your lamps)\n\nFree and o
 pen to the public
X-ALT-DESC;FMTTYPE=text/html:<div class=page-restrict-output><h3>Music
  of Advent/Christmas</h3>\n<p>with the Cherub\, Seraphim and Parish ch
 oir\, Youth and Handbell choir\, Praise and Worship Ensemble\, and var
 ious instruments</p>\n<p><em>Including music of Ord (Adam lay ybounden
 )\, Gauntlett (Once in royal David's city)\, Biebl (Ave Maria)\, Hande
 l (And the glory of the Lord)\, Thomas (Keep your lamps)</em></p>\n<p>
 Free and open to the public</p>\n</div>
URL:https://akronago.org/events/26/ceremony-of-lessons-carols/?lang=en
ATTACH:https://akronago.org/events/26/ceremony-of-lessons-carols/?lang
 =en
LOCATION:St Sebastian RC (Akron)\, 476 Mull Ave\, Akron
END:VEVENT
END:VCALENDAR
