BEGIN:VCALENDAR
VERSION:2.0
METHOD:PUBLISH
PRODID:-//hacksw/handcal//NONSGML v1.0//EN
BEGIN:VEVENT
DTSTAMP:20260423T111727Z
DTSTART:20150418T000000Z
DTEND:20150417T040000Z
UID:20150418T000000Z-20150417T040000Z-257@akronago.org
SUMMARY:Tom Trenney
DESCRIPTION:
X-ALT-DESC;FMTTYPE=text/html:<div class=page-restrict-output></div>
URL:https://akronago.org/events/257/tom-trenney/?lang=en
ATTACH:https://akronago.org/events/257/tom-trenney/?lang=en
LOCATION:Holy Trinity Lutheran (Akron)\, 50 North Prospect St\, Akron
END:VEVENT
END:VCALENDAR
