BEGIN:VCALENDAR
VERSION:2.0
METHOD:PUBLISH
PRODID:-//hacksw/handcal//NONSGML v1.0//EN
BEGIN:VEVENT
DTSTAMP:20260423T111808Z
DTSTART:20150217T040000Z
DTEND:20150217T040000Z
UID:20150217T040000Z-20150217T040000Z-255@akronago.org
SUMMARY:Mardi Gras Jazz (Dinner & Concert)
DESCRIPTION:Dinner and Concert times To Be Announced\n\n 
X-ALT-DESC;FMTTYPE=text/html:<div class=page-restrict-output><p>Dinner
  and Concert times To Be Announced</p>\n<p>&nbsp\;</p>\n</div>
URL:https://akronago.org/events/255/mardi-gras-jazz-dinner-concert/?la
 ng=en
ATTACH:https://akronago.org/events/255/mardi-gras-jazz-dinner-concert/
 ?lang=en
LOCATION:Holy Trinity Lutheran (Akron)\, 50 North Prospect St\, Akron
END:VEVENT
END:VCALENDAR
