BEGIN:VCALENDAR
VERSION:2.0
METHOD:PUBLISH
PRODID:-//hacksw/handcal//NONSGML v1.0//EN
BEGIN:VEVENT
DTSTAMP:20260423T111738Z
DTSTART:20141205T233000Z
DTEND:20141205T040000Z
UID:20141205T233000Z-20141205T040000Z-254@akronago.org
SUMMARY:Lessons & Carols
DESCRIPTION:
X-ALT-DESC;FMTTYPE=text/html:<div class=page-restrict-output></div>
URL:https://akronago.org/events/254/lessons-carols/?lang=en
ATTACH:https://akronago.org/events/254/lessons-carols/?lang=en
LOCATION:Holy Trinity Lutheran (Akron)\, 50 North Prospect St\, Akron
END:VEVENT
END:VCALENDAR
