BEGIN:VCALENDAR
VERSION:2.0
METHOD:PUBLISH
PRODID:-//hacksw/handcal//NONSGML v1.0//EN
BEGIN:VEVENT
DTSTAMP:20260423T111614Z
DTSTART:20150531T200000Z
DTEND:20150531T040000Z
UID:20150531T200000Z-20150531T040000Z-251@akronago.org
SUMMARY:Academy of Culture & Arts Student Recital
DESCRIPTION:Lynn Frey-Steward\, CAGO\, MM\, Coordinator
X-ALT-DESC;FMTTYPE=text/html:<div class=page-restrict-output><p><i>Lyn
 n Frey-Steward\, CAGO\, MM\, Coordinator</i></p>\n</div>
URL:https://akronago.org/events/251/academy-student-recital/?lang=en
ATTACH:https://akronago.org/events/251/academy-student-recital/?lang=e
 n
LOCATION:St Sebastian RC (Akron)\, 476 Mull Ave\, Akron
END:VEVENT
END:VCALENDAR
