BEGIN:VCALENDAR
VERSION:2.0
METHOD:PUBLISH
PRODID:-//hacksw/handcal//NONSGML v1.0//EN
BEGIN:VEVENT
DTSTAMP:20260423T111905Z
DTSTART:20150517T203000Z
DTEND:20150517T040000Z
UID:20150517T203000Z-20150517T040000Z-250@akronago.org
SUMMARY:Choral Festival
DESCRIPTION:Dr. Samuel Gordon\, Director
X-ALT-DESC;FMTTYPE=text/html:<div class=page-restrict-output><p><i>Dr.
  Samuel Gordon\, Director</i></p>\n</div>
URL:https://akronago.org/events/250/choral-festival/?lang=en
ATTACH:https://akronago.org/events/250/choral-festival/?lang=en
LOCATION:St Sebastian RC (Akron)\, 476 Mull Ave\, Akron
END:VEVENT
END:VCALENDAR
