BEGIN:VCALENDAR
VERSION:2.0
METHOD:PUBLISH
PRODID:-//hacksw/handcal//NONSGML v1.0//EN
BEGIN:VEVENT
DTSTAMP:20260423T111809Z
DTSTART:20150516T230000Z
DTEND:20150516T040000Z
UID:20150516T230000Z-20150516T040000Z-249@akronago.org
SUMMARY:Daniel Barber\, piano
DESCRIPTION:Dr. Daniel Barber is a member of the Piano Faculty of Clev
 eland State University\n\n 
X-ALT-DESC;FMTTYPE=text/html:<div class=page-restrict-output><p><i>Dr.
  Daniel Barber is a member of the </i><i>Piano Faculty of Cleveland St
 ate University</i></p>\n<p><b><i> </i></b></p>\n</div>
URL:https://akronago.org/events/249/daniel-barber-piano/?lang=en
ATTACH:https://akronago.org/events/249/daniel-barber-piano/?lang=en
LOCATION:St Sebastian RC (Akron)\, 476 Mull Ave\, Akron
END:VEVENT
END:VCALENDAR
