BEGIN:VCALENDAR
VERSION:2.0
METHOD:PUBLISH
PRODID:-//hacksw/handcal//NONSGML v1.0//EN
BEGIN:VEVENT
DTSTAMP:20260423T111906Z
DTSTART:20150503T193000Z
DTEND:20150503T040000Z
UID:20150503T193000Z-20150503T040000Z-248@akronago.org
SUMMARY:Akron Symphony Chorus
DESCRIPTION:“Rachmaninoff”\n\nMaria Sensi Sellner\, Director
X-ALT-DESC;FMTTYPE=text/html:<div class=page-restrict-output><p><b><i>
 “Rachmaninoff”</i></b></p>\n<p><i>Maria Sensi Sellner\, Director</i></
 p>\n</div>
URL:https://akronago.org/events/248/akron-symphony-chorus/?lang=en
ATTACH:https://akronago.org/events/248/akron-symphony-chorus/?lang=en
LOCATION:St Sebastian RC (Akron)\, 476 Mull Ave\, Akron
END:VEVENT
END:VCALENDAR
