BEGIN:VCALENDAR
VERSION:2.0
METHOD:PUBLISH
PRODID:-//hacksw/handcal//NONSGML v1.0//EN
BEGIN:VEVENT
DTSTAMP:20260423T111737Z
DTSTART:20150328T230000Z
DTEND:20150328T040000Z
UID:20150328T230000Z-20150328T040000Z-246@akronago.org
SUMMARY:Lenten Concert featuring Handel's Messiah
DESCRIPTION:Featuring the combined choirs of St. Hilary and St. Sebast
 ian\n\nCarissa Young\, St. Hilary Director of Music\n\nLynn Frey-Stewa
 rd\, CAGO\, MM\; St. Sebastian\, Director of Music
X-ALT-DESC;FMTTYPE=text/html:<div class=page-restrict-output><p><i>Fea
 turing the combined choirs of St. Hilary and St. Sebastian</i></p>\n<p
 ><i>Carissa Young\, St. Hilary Director of Music</i></p>\n<p><i>Lynn F
 rey-Steward\, CAGO\, MM\; St. Sebastian\, Director of Music</i></p>\n<
 /div>
URL:https://akronago.org/events/246/handels-messiah/?lang=en
ATTACH:https://akronago.org/events/246/handels-messiah/?lang=en
LOCATION:St Hilary RC (Fairlawn)\, 2750 W Market\, Fairlawn
END:VEVENT
END:VCALENDAR
