BEGIN:VCALENDAR
VERSION:2.0
METHOD:PUBLISH
PRODID:-//hacksw/handcal//NONSGML v1.0//EN
BEGIN:VEVENT
DTSTAMP:20260423T111825Z
DTSTART:20150315T200000Z
DTEND:20150315T040000Z
UID:20150315T200000Z-20150315T040000Z-245@akronago.org
SUMMARY:Coffee House Concert — Music Standards Era (Zwisler Hall)
DESCRIPTION:Concert is in Zwisler Hall\n\nGroup:  722\n\nDirected by T
 racy Brefka\n\nCoffee\, tea and desserts served
X-ALT-DESC;FMTTYPE=text/html:<div class=page-restrict-output><p><i>Con
 cert is in Zwisler Hall</i></p>\n<p><i>Group:  722</i></p>\n<p><i>Dire
 cted by Tracy Brefka</i></p>\n<p><i>Coffee\, tea and desserts served</
 i></p>\n</div>
URL:https://akronago.org/events/245/coffee-house-concert/?lang=en
ATTACH:https://akronago.org/events/245/coffee-house-concert/?lang=en
LOCATION:St Sebastian RC (Akron)\, 476 Mull Ave\, Akron
END:VEVENT
END:VCALENDAR
